BEGIN:VCALENDAR
VERSION:2.0
PRODID:-//Sabre//Sabre VObject 4.5.8//EN
CALSCALE:GREGORIAN
BEGIN:VEVENT
UID:sabre-vobject-559fd4f1-a55a-44f2-a439-243cb6d5833c
DTSTAMP:20260425T220116Z
SUMMARY:ACS & FAP Presents: Anger Management Course
DESCRIPTION:
X-ALT-DESC:FMTTYPE=text/html:<!DOCTYPE HTML PUBLIC "-//W3C//DTD HTML 3.2//E
 N"><HTML></HTML>
CREATED;TZID=America/Chicago:20251212T154850
URL;VALUE=URI:https://leavenworth.armymwr.com/view-event
DTSTART;TZID=America/Chicago:20260108T133000
DTEND;TZID=America/Chicago:20260108T150000
SEQUENCE:0
END:VEVENT
BEGIN:VEVENT
UID:sabre-vobject-703c9f85-a7ed-45da-82c1-3276392497ef
DTSTAMP:20260425T220116Z
SUMMARY:ACS & FAP Presents: Anger Management Course
DESCRIPTION:
X-ALT-DESC:FMTTYPE=text/html:<!DOCTYPE HTML PUBLIC "-//W3C//DTD HTML 3.2//E
 N"><HTML></HTML>
CREATED;TZID=America/Chicago:20251212T154850
URL;VALUE=URI:https://leavenworth.armymwr.com/view-event
DTSTART;TZID=America/Chicago:20260507T133000
DTEND;TZID=America/Chicago:20260507T150000
SEQUENCE:1
END:VEVENT
BEGIN:VEVENT
UID:sabre-vobject-2171a423-d25d-4495-9ed1-2fc49c450f4a
DTSTAMP:20260425T220116Z
SUMMARY:ACS & FAP Presents: Anger Management Course
DESCRIPTION:
X-ALT-DESC:FMTTYPE=text/html:<!DOCTYPE HTML PUBLIC "-//W3C//DTD HTML 3.2//E
 N"><HTML></HTML>
CREATED;TZID=America/Chicago:20251212T154850
URL;VALUE=URI:https://leavenworth.armymwr.com/view-event
DTSTART;TZID=America/Chicago:20260806T133000
DTEND;TZID=America/Chicago:20260806T150000
SEQUENCE:2
END:VEVENT
BEGIN:VEVENT
UID:sabre-vobject-e4ae3606-290f-4a56-a8e3-6df7daaabfc7
DTSTAMP:20260425T220116Z
SUMMARY:ACS & FAP Presents: Anger Management Course
DESCRIPTION:
X-ALT-DESC:FMTTYPE=text/html:<!DOCTYPE HTML PUBLIC "-//W3C//DTD HTML 3.2//E
 N"><HTML></HTML>
CREATED;TZID=America/Chicago:20251212T154850
URL;VALUE=URI:https://leavenworth.armymwr.com/view-event
DTSTART;TZID=America/Chicago:20261022T133000
DTEND;TZID=America/Chicago:20261022T150000
SEQUENCE:3
END:VEVENT
END:VCALENDAR
