BEGIN:VCALENDAR
VERSION:2.0
PRODID:-//Sabre//Sabre VObject 4.5.8//EN
CALSCALE:GREGORIAN
BEGIN:VEVENT
UID:sabre-vobject-1f616610-faff-45e0-8870-ebfdb05d4bff
DTSTAMP:20260425T115938Z
SUMMARY:Trees for Troops 
DESCRIPTION:
X-ALT-DESC:FMTTYPE=text/html:<!DOCTYPE HTML PUBLIC "-//W3C//DTD HTML 3.2//E
 N"><HTML></HTML>
CREATED;TZID=America/Chicago:20251113T132403
URL;VALUE=URI:https://leavenworth.armymwr.com/view-event
DTSTART;TZID=America/Chicago:20251208T110000
DTEND;TZID=America/Chicago:20251208T160000
SEQUENCE:0
END:VEVENT
END:VCALENDAR
