BEGIN:VCALENDAR
VERSION:2.0
PRODID:-//Sabre//Sabre VObject 4.5.8//EN
CALSCALE:GREGORIAN
BEGIN:VEVENT
UID:sabre-vobject-882aa3cd-6876-48e8-9583-5346278e61cb
DTSTAMP:20260424T083310Z
SUMMARY:NPSP Prenatal Classes 
DESCRIPTION:
X-ALT-DESC:FMTTYPE=text/html:<!DOCTYPE HTML PUBLIC "-//W3C//DTD HTML 3.2//E
 N"><HTML></HTML>
CREATED;TZID=America/Chicago:20230306T104521
URL;VALUE=URI:https://leavenworth.armymwr.com/view-event
DTSTART;TZID=America/Chicago:20220606T170000
DTEND;TZID=America/Chicago:20220606T190000
SEQUENCE:0
END:VEVENT
BEGIN:VEVENT
UID:sabre-vobject-840e6da5-2ef0-4452-8c59-e01ddd095237
DTSTAMP:20260424T083310Z
SUMMARY:NPSP Prenatal Classes 
DESCRIPTION:
X-ALT-DESC:FMTTYPE=text/html:<!DOCTYPE HTML PUBLIC "-//W3C//DTD HTML 3.2//E
 N"><HTML></HTML>
CREATED;TZID=America/Chicago:20230306T104521
URL;VALUE=URI:https://leavenworth.armymwr.com/view-event
DTSTART;TZID=America/Chicago:20221107T170000
DTEND;TZID=America/Chicago:20221107T190000
SEQUENCE:1
END:VEVENT
BEGIN:VEVENT
UID:sabre-vobject-5d339a5f-5734-4adf-ab4b-ccdb3d078a49
DTSTAMP:20260424T083310Z
SUMMARY:NPSP Prenatal Classes 
DESCRIPTION:
X-ALT-DESC:FMTTYPE=text/html:<!DOCTYPE HTML PUBLIC "-//W3C//DTD HTML 3.2//E
 N"><HTML></HTML>
CREATED;TZID=America/Chicago:20230306T104521
URL;VALUE=URI:https://leavenworth.armymwr.com/view-event
DTSTART;TZID=America/Chicago:20221205T170000
DTEND;TZID=America/Chicago:20221205T190000
SEQUENCE:2
END:VEVENT
BEGIN:VEVENT
UID:sabre-vobject-a41e8435-6fe4-4f30-a4d7-9723760955f6
DTSTAMP:20260424T083310Z
SUMMARY:NPSP Prenatal Classes 
DESCRIPTION:
X-ALT-DESC:FMTTYPE=text/html:<!DOCTYPE HTML PUBLIC "-//W3C//DTD HTML 3.2//E
 N"><HTML></HTML>
CREATED;TZID=America/Chicago:20230306T104521
URL;VALUE=URI:https://leavenworth.armymwr.com/view-event
DTSTART;TZID=America/Chicago:20221212T170000
DTEND;TZID=America/Chicago:20221212T190000
SEQUENCE:3
END:VEVENT
BEGIN:VEVENT
UID:sabre-vobject-7e19a7cb-e374-4fba-bd80-c6e9b064edf6
DTSTAMP:20260424T083310Z
SUMMARY:NPSP Prenatal Classes 
DESCRIPTION:
X-ALT-DESC:FMTTYPE=text/html:<!DOCTYPE HTML PUBLIC "-//W3C//DTD HTML 3.2//E
 N"><HTML></HTML>
CREATED;TZID=America/Chicago:20230306T104521
URL;VALUE=URI:https://leavenworth.armymwr.com/view-event
DTSTART;TZID=America/Chicago:20230109T170000
DTEND;TZID=America/Chicago:20230109T190000
SEQUENCE:4
END:VEVENT
BEGIN:VEVENT
UID:sabre-vobject-b50066cf-45de-4583-9069-880873fc502e
DTSTAMP:20260424T083310Z
SUMMARY:NPSP Prenatal Classes 
DESCRIPTION:
X-ALT-DESC:FMTTYPE=text/html:<!DOCTYPE HTML PUBLIC "-//W3C//DTD HTML 3.2//E
 N"><HTML></HTML>
CREATED;TZID=America/Chicago:20230306T104521
URL;VALUE=URI:https://leavenworth.armymwr.com/view-event
DTSTART;TZID=America/Chicago:20230206T170000
DTEND;TZID=America/Chicago:20230206T190000
SEQUENCE:5
END:VEVENT
BEGIN:VEVENT
UID:sabre-vobject-78cd1912-2353-406f-a89a-13d843b417b5
DTSTAMP:20260424T083310Z
SUMMARY:NPSP Prenatal Classes 
DESCRIPTION:
X-ALT-DESC:FMTTYPE=text/html:<!DOCTYPE HTML PUBLIC "-//W3C//DTD HTML 3.2//E
 N"><HTML></HTML>
CREATED;TZID=America/Chicago:20230306T104521
URL;VALUE=URI:https://leavenworth.armymwr.com/view-event
DTSTART;TZID=America/Chicago:20230213T170000
DTEND;TZID=America/Chicago:20230213T190000
SEQUENCE:6
END:VEVENT
BEGIN:VEVENT
UID:sabre-vobject-539242bf-ac05-4964-b223-ee5a7cf3d729
DTSTAMP:20260424T083310Z
SUMMARY:NPSP Prenatal Classes 
DESCRIPTION:
X-ALT-DESC:FMTTYPE=text/html:<!DOCTYPE HTML PUBLIC "-//W3C//DTD HTML 3.2//E
 N"><HTML></HTML>
CREATED;TZID=America/Chicago:20230306T104521
URL;VALUE=URI:https://leavenworth.armymwr.com/view-event
DTSTART;TZID=America/Chicago:20230306T170000
DTEND;TZID=America/Chicago:20230306T190000
SEQUENCE:7
END:VEVENT
BEGIN:VEVENT
UID:sabre-vobject-bcb99274-03e8-4fb8-b1df-d97f04d591f4
DTSTAMP:20260424T083310Z
SUMMARY:NPSP Prenatal Classes 
DESCRIPTION:
X-ALT-DESC:FMTTYPE=text/html:<!DOCTYPE HTML PUBLIC "-//W3C//DTD HTML 3.2//E
 N"><HTML></HTML>
CREATED;TZID=America/Chicago:20230306T104521
URL;VALUE=URI:https://leavenworth.armymwr.com/view-event
DTSTART;TZID=America/Chicago:20230403T170000
DTEND;TZID=America/Chicago:20230403T190000
SEQUENCE:8
END:VEVENT
BEGIN:VEVENT
UID:sabre-vobject-80d84f92-329f-4894-ada9-70e835905c83
DTSTAMP:20260424T083310Z
SUMMARY:NPSP Prenatal Classes 
DESCRIPTION:
X-ALT-DESC:FMTTYPE=text/html:<!DOCTYPE HTML PUBLIC "-//W3C//DTD HTML 3.2//E
 N"><HTML></HTML>
CREATED;TZID=America/Chicago:20230306T104521
URL;VALUE=URI:https://leavenworth.armymwr.com/view-event
DTSTART;TZID=America/Chicago:20230417T170000
DTEND;TZID=America/Chicago:20230417T190000
SEQUENCE:9
END:VEVENT
END:VCALENDAR
