BEGIN:VCALENDAR
VERSION:2.0
PRODID:-//Sabre//Sabre VObject 4.5.8//EN
CALSCALE:GREGORIAN
BEGIN:VEVENT
UID:sabre-vobject-7f18e110-6432-43ed-a443-03bd754bb99b
DTSTAMP:20260425T202329Z
SUMMARY:Military Spouse Appreciation Drive Thru Event
DESCRIPTION:
X-ALT-DESC:FMTTYPE=text/html:<!DOCTYPE HTML PUBLIC "-//W3C//DTD HTML 3.2//E
 N"><HTML></HTML>
CREATED;TZID=America/Chicago:20220408T112621
URL;VALUE=URI:https://leavenworth.armymwr.com/view-event
DTSTART;TZID=America/Chicago:20220506T080000
DTEND;TZID=America/Chicago:20220506T110000
SEQUENCE:0
END:VEVENT
END:VCALENDAR
