BEGIN:VCALENDAR
VERSION:2.0
PRODID:-//Sabre//Sabre VObject 4.5.8//EN
CALSCALE:GREGORIAN
BEGIN:VEVENT
UID:sabre-vobject-acffbce3-48ff-42ac-988c-4b2a28df359e
DTSTAMP:20260421T094943Z
SUMMARY:Master Any Move with ACS
DESCRIPTION:
X-ALT-DESC:FMTTYPE=text/html:<!DOCTYPE HTML PUBLIC "-//W3C//DTD HTML 3.2//E
 N"><HTML></HTML>
CREATED;TZID=America/Chicago:20220407T104710
URL;VALUE=URI:https://leavenworth.armymwr.com/view-event
DTSTART;TZID=America/Chicago:20220413T130000
DTEND;TZID=America/Chicago:20220413T140000
SEQUENCE:0
END:VEVENT
END:VCALENDAR
