BEGIN:VCALENDAR
VERSION:2.0
PRODID:-//Sabre//Sabre VObject 4.5.8//EN
CALSCALE:GREGORIAN
BEGIN:VEVENT
UID:sabre-vobject-6da3d4e1-fd10-4a01-af18-d26589c5eeee
DTSTAMP:20260426T025149Z
SUMMARY:ACS FAP Presents: Stress Management
DESCRIPTION:
X-ALT-DESC:FMTTYPE=text/html:<!DOCTYPE HTML PUBLIC "-//W3C//DTD HTML 3.2//E
 N"><HTML></HTML>
CREATED;TZID=America/Chicago:20251211T095856
URL;VALUE=URI:https://leavenworth.armymwr.com/view-event
DTSTART;TZID=America/Chicago:20260219T113000
DTEND;TZID=America/Chicago:20260219T130000
SEQUENCE:0
END:VEVENT
BEGIN:VEVENT
UID:sabre-vobject-3728a29a-2425-40a1-99ca-545ae4ee75b3
DTSTAMP:20260426T025149Z
SUMMARY:ACS FAP Presents: Stress Management
DESCRIPTION:
X-ALT-DESC:FMTTYPE=text/html:<!DOCTYPE HTML PUBLIC "-//W3C//DTD HTML 3.2//E
 N"><HTML></HTML>
CREATED;TZID=America/Chicago:20251211T095856
URL;VALUE=URI:https://leavenworth.armymwr.com/view-event
DTSTART;TZID=America/Chicago:20260416T113000
DTEND;TZID=America/Chicago:20260416T130000
SEQUENCE:1
END:VEVENT
BEGIN:VEVENT
UID:sabre-vobject-ee61affc-1c67-4dd6-b144-1893fb956b88
DTSTAMP:20260426T025149Z
SUMMARY:ACS FAP Presents: Stress Management
DESCRIPTION:
X-ALT-DESC:FMTTYPE=text/html:<!DOCTYPE HTML PUBLIC "-//W3C//DTD HTML 3.2//E
 N"><HTML></HTML>
CREATED;TZID=America/Chicago:20251211T095856
URL;VALUE=URI:https://leavenworth.armymwr.com/view-event
DTSTART;TZID=America/Chicago:20260618T113000
DTEND;TZID=America/Chicago:20260618T130000
SEQUENCE:2
END:VEVENT
BEGIN:VEVENT
UID:sabre-vobject-4f2866fa-06e5-4366-a0f2-318f578ad865
DTSTAMP:20260426T025149Z
SUMMARY:ACS FAP Presents: Stress Management
DESCRIPTION:
X-ALT-DESC:FMTTYPE=text/html:<!DOCTYPE HTML PUBLIC "-//W3C//DTD HTML 3.2//E
 N"><HTML></HTML>
CREATED;TZID=America/Chicago:20251211T095856
URL;VALUE=URI:https://leavenworth.armymwr.com/view-event
DTSTART;TZID=America/Chicago:20260820T113000
DTEND;TZID=America/Chicago:20260820T130000
SEQUENCE:3
END:VEVENT
BEGIN:VEVENT
UID:sabre-vobject-806fdd05-dab2-4541-9373-fc509f30625c
DTSTAMP:20260426T025149Z
SUMMARY:ACS FAP Presents: Stress Management
DESCRIPTION:
X-ALT-DESC:FMTTYPE=text/html:<!DOCTYPE HTML PUBLIC "-//W3C//DTD HTML 3.2//E
 N"><HTML></HTML>
CREATED;TZID=America/Chicago:20251211T095856
URL;VALUE=URI:https://leavenworth.armymwr.com/view-event
DTSTART;TZID=America/Chicago:20251015T113000
DTEND;TZID=America/Chicago:20251015T123000
SEQUENCE:4
END:VEVENT
BEGIN:VEVENT
UID:sabre-vobject-96f22cac-67e4-4ac9-a820-8af2eb6a8ddd
DTSTAMP:20260426T025149Z
SUMMARY:ACS FAP Presents: Stress Management
DESCRIPTION:
X-ALT-DESC:FMTTYPE=text/html:<!DOCTYPE HTML PUBLIC "-//W3C//DTD HTML 3.2//E
 N"><HTML></HTML>
CREATED;TZID=America/Chicago:20251211T095856
URL;VALUE=URI:https://leavenworth.armymwr.com/view-event
DTSTART;TZID=America/Chicago:20261210T113000
DTEND;TZID=America/Chicago:20261210T130000
SEQUENCE:5
END:VEVENT
END:VCALENDAR
