BEGIN:VCALENDAR
VERSION:2.0
PRODID:-//Sabre//Sabre VObject 4.5.8//EN
CALSCALE:GREGORIAN
BEGIN:VEVENT
UID:sabre-vobject-5ed905c7-f037-4267-81e4-df8f75a27ce2
DTSTAMP:20260423T021805Z
SUMMARY:Gobbler Orienteer Meet
DESCRIPTION:
X-ALT-DESC:FMTTYPE=text/html:<!DOCTYPE HTML PUBLIC "-//W3C//DTD HTML 3.2//E
 N"><HTML></HTML>
CREATED;TZID=America/Chicago:20211027T105050
URL;VALUE=URI:https://leavenworth.armymwr.com/view-event
DTSTART;TZID=America/Chicago:20211120T080000
DTEND;TZID=America/Chicago:20211120T100000
SEQUENCE:0
END:VEVENT
END:VCALENDAR
