BEGIN:VCALENDAR
VERSION:2.0
PRODID:-//Sabre//Sabre VObject 4.5.8//EN
CALSCALE:GREGORIAN
BEGIN:VEVENT
UID:sabre-vobject-421fdf72-5435-45d4-ad24-f8f4b73c9cc1
DTSTAMP:20260424T034218Z
SUMMARY:TWGC Golf Simulator League 
DESCRIPTION:
X-ALT-DESC:FMTTYPE=text/html:<!DOCTYPE HTML PUBLIC "-//W3C//DTD HTML 3.2//E
 N"><HTML></HTML>
CREATED;TZID=America/Chicago:20211012T101648
URL;VALUE=URI:https://leavenworth.armymwr.com/view-event
DTSTART;TZID=America/Chicago:20211101T100000
DTEND;TZID=America/Chicago:20211128T110000
SEQUENCE:0
END:VEVENT
END:VCALENDAR
