BEGIN:VCALENDAR
VERSION:2.0
PRODID:-//Sabre//Sabre VObject 4.5.8//EN
CALSCALE:GREGORIAN
BEGIN:VEVENT
UID:sabre-vobject-4b347bf5-0056-44ef-8546-aae6a83c2968
DTSTAMP:20260424T034225Z
SUMMARY:ACS Book Club 
DESCRIPTION:
X-ALT-DESC:FMTTYPE=text/html:<!DOCTYPE HTML PUBLIC "-//W3C//DTD HTML 3.2//E
 N"><HTML></HTML>
CREATED;TZID=America/Chicago:20210921T151724
URL;VALUE=URI:https://leavenworth.armymwr.com/view-event
DTSTART;TZID=America/Chicago:20211005T100000
DTEND;TZID=America/Chicago:20211005T110000
SEQUENCE:0
END:VEVENT
END:VCALENDAR
