BEGIN:VCALENDAR
VERSION:2.0
PRODID:-//Sabre//Sabre VObject 4.5.8//EN
CALSCALE:GREGORIAN
BEGIN:VEVENT
UID:sabre-vobject-6a68a739-ff9b-4c30-b47a-2877293bfda3
DTSTAMP:20260422T151606Z
SUMMARY:Trails West Trails of Terror Chili Scramble 
DESCRIPTION:
X-ALT-DESC:FMTTYPE=text/html:<!DOCTYPE HTML PUBLIC "-//W3C//DTD HTML 3.2//E
 N"><HTML></HTML>
CREATED;TZID=America/Chicago:20260130T105527
URL;VALUE=URI:https://leavenworth.armymwr.com/view-event
DTSTART;TZID=America/Chicago:20261024T100000
DTEND;TZID=America/Chicago:20261024T110000
SEQUENCE:0
END:VEVENT
END:VCALENDAR
