BEGIN:VCALENDAR
VERSION:2.0
PRODID:-//Sabre//Sabre VObject 4.5.8//EN
CALSCALE:GREGORIAN
BEGIN:VEVENT
UID:sabre-vobject-5793848c-3e63-4eef-ac66-b8ff53ea1880
DTSTAMP:20260424T190836Z
SUMMARY:Self-Defense for Women
DESCRIPTION:
X-ALT-DESC:FMTTYPE=text/html:<!DOCTYPE HTML PUBLIC "-//W3C//DTD HTML 3.2//E
 N"><HTML></HTML>
CREATED;TZID=America/Chicago:20210709T122122
URL;VALUE=URI:https://leavenworth.armymwr.com/view-event
DTSTART;TZID=America/Chicago:20210728T183000
DTEND;TZID=America/Chicago:20210728T193000
SEQUENCE:0
END:VEVENT
BEGIN:VEVENT
UID:sabre-vobject-44ef48c6-6846-48a3-8d25-ca454dc79f0a
DTSTAMP:20260424T190836Z
SUMMARY:Self-Defense for Women
DESCRIPTION:
X-ALT-DESC:FMTTYPE=text/html:<!DOCTYPE HTML PUBLIC "-//W3C//DTD HTML 3.2//E
 N"><HTML></HTML>
CREATED;TZID=America/Chicago:20210709T122122
URL;VALUE=URI:https://leavenworth.armymwr.com/view-event
DTSTART;TZID=America/Chicago:20211020T183000
DTEND;TZID=America/Chicago:20211020T193000
SEQUENCE:1
END:VEVENT
END:VCALENDAR
