BEGIN:VCALENDAR
VERSION:2.0
PRODID:-//Sabre//Sabre VObject 4.5.8//EN
CALSCALE:GREGORIAN
BEGIN:VEVENT
UID:sabre-vobject-59276e18-0b1d-48db-9ce3-20ef88d98e84
DTSTAMP:20260423T021806Z
SUMMARY:Boss Angel Tree
DESCRIPTION:Give a gift to someone in need!&nbsp\;\n
X-ALT-DESC:FMTTYPE=text/html:<!DOCTYPE HTML PUBLIC "-//W3C//DTD HTML 3.2//E
 N"><HTML><p>Give a gift to someone in need!&nbsp\;</p>\n</HTML>
CREATED;TZID=America/Chicago:20211201T093305
URL;VALUE=URI:https://leavenworth.armymwr.com/view-event
DTSTART;TZID=America/Chicago:20211126T000000
DTEND;TZID=America/Chicago:20211217T235959
SEQUENCE:0
END:VEVENT
END:VCALENDAR
