BEGIN:VCALENDAR
VERSION:2.0
PRODID:-//Sabre//Sabre VObject 4.5.8//EN
CALSCALE:GREGORIAN
BEGIN:VEVENT
UID:sabre-vobject-45f98067-b367-42d6-9028-fc9c9db43348
DTSTAMP:20260422T110213Z
SUMMARY:Tree Lighting Ceremony
DESCRIPTION:
X-ALT-DESC:FMTTYPE=text/html:<!DOCTYPE HTML PUBLIC "-//W3C//DTD HTML 3.2//E
 N"><HTML></HTML>
CREATED;TZID=America/Chicago:20211202T161559
URL;VALUE=URI:https://leavenworth.armymwr.com/view-event
DTSTART;TZID=America/Chicago:20211203T160000
DTEND;TZID=America/Chicago:20211203T180000
SEQUENCE:0
END:VEVENT
END:VCALENDAR
