BEGIN:VCALENDAR
VERSION:2.0
PRODID:-//Sabre//Sabre VObject 4.5.8//EN
CALSCALE:GREGORIAN
BEGIN:VEVENT
UID:sabre-vobject-0f4a34e6-f6a7-410e-b175-0a9296ca96d4
DTSTAMP:20260421T232351Z
SUMMARY:Arts & Crafts Studio: March - April Workshops and Classes
DESCRIPTION:
X-ALT-DESC:FMTTYPE=text/html:<!DOCTYPE HTML PUBLIC "-//W3C//DTD HTML 3.2//E
 N"><HTML></HTML>
CREATED;TZID=America/Chicago:20260306T134222
URL;VALUE=URI:https://leavenworth.armymwr.com/view-event
DTSTART;TZID=America/Chicago:20260302T093000
DTEND;TZID=America/Chicago:20260302T103000
SEQUENCE:0
END:VEVENT
END:VCALENDAR
